BEGIN:VCALENDAR
VERSION:2.0
PRODID:-//Ninja Golf! - ECPv6.15.20//NONSGML v1.0//EN
CALSCALE:GREGORIAN
METHOD:PUBLISH
X-ORIGINAL-URL:https://www.playninjagolf.com
X-WR-CALDESC:Events for Ninja Golf!
REFRESH-INTERVAL;VALUE=DURATION:PT1H
X-Robots-Tag:noindex
X-PUBLISHED-TTL:PT1H
BEGIN:VTIMEZONE
TZID:America/New_York
BEGIN:DAYLIGHT
TZOFFSETFROM:-0500
TZOFFSETTO:-0400
TZNAME:EDT
DTSTART:20250309T070000
END:DAYLIGHT
BEGIN:STANDARD
TZOFFSETFROM:-0400
TZOFFSETTO:-0500
TZNAME:EST
DTSTART:20251102T060000
END:STANDARD
BEGIN:DAYLIGHT
TZOFFSETFROM:-0500
TZOFFSETTO:-0400
TZNAME:EDT
DTSTART:20260308T070000
END:DAYLIGHT
BEGIN:STANDARD
TZOFFSETFROM:-0400
TZOFFSETTO:-0500
TZNAME:EST
DTSTART:20261101T060000
END:STANDARD
BEGIN:DAYLIGHT
TZOFFSETFROM:-0500
TZOFFSETTO:-0400
TZNAME:EDT
DTSTART:20270314T070000
END:DAYLIGHT
BEGIN:STANDARD
TZOFFSETFROM:-0400
TZOFFSETTO:-0500
TZNAME:EST
DTSTART:20271107T060000
END:STANDARD
END:VTIMEZONE
BEGIN:VEVENT
DTSTART;VALUE=DATE:20260606
DTEND;VALUE=DATE:20260607
DTSTAMP:20260421T103213
CREATED:20260323T161837Z
LAST-MODIFIED:20260323T161907Z
UID:4283-1780704000-1780790399@www.playninjagolf.com
SUMMARY:Dress Like a Ninja Day!
DESCRIPTION:Channel your inner ninja and join us for Dress Like a Ninja Day\, happening on the first Saturday of every month from March through October at Ninja Golf. If you show up dressed like a ninja\, you get to play mini golf for FREE! \nYes\, really. Free. Basho approved. \nBut remember\, full effort counts. This is more than just a headband. Show us your best ninja style and you might earn an extra reward from our staff. Think ice cream\, a Japanese soda\, or another surprise treat. We will also be picking our favorite ninja outfits and handing out special prizes. \nEvent details: \n\nFirst Saturday of each month\nMarch through October\nDress like a ninja to play mini golf for FREE\nCreative costumes encouraged\nStaff favorite outfits win special treats or prizes\n\nDress like a ninja. Play like a ninja. Have some fun with it. Basho says hai.
URL:https://www.playninjagolf.com/event/dress-like-a-ninja-day-3/
LOCATION:Ninja Golf\, 12080 Adams Rd\, Granger\, IN\, 46530\, United States
ATTACH;FMTTYPE=image/png:https://www.playninjagolf.com/wp-content/uploads/2026/03/Dress-like-a-ninja-cover.png
END:VEVENT
BEGIN:VEVENT
DTSTART;TZID=America/New_York:20260611T180000
DTEND;TZID=America/New_York:20260611T200000
DTSTAMP:20260421T103213
CREATED:20260415T151315Z
LAST-MODIFIED:20260420T180615Z
UID:4352-1781200800-1781208000@www.playninjagolf.com
SUMMARY:MiniTourneys! Sponsored by Culver's
DESCRIPTION:Think you’ve got what it takes to be a mini golf champ\, or just love a little friendly competition? Join us at Ninja Golf every Thursday night this summer for MiniTourneys. \n\nDates: June 11\, 18\, 25 • July 2\, 9\, 16\, 23\, 30 • August 6\nCheck-in: 6:00 PM\nTee-off: 6:30 PM\nWrap-up: Around 8:00 PM\nEntry Fee: $5 per player\n\nWith both Pro and Not-A-Pro divisions\, this event is open to all ages and skill levels. Whether you’re experienced or playing for the first time\, everyone is welcome. \nEnjoy weekly prizes\, great food\, and of course\, ice cream. \nGrab your friends\, bring your best game\, and make Thursday nights a highlight of your summer. No registration needed. Just show up and play.
URL:https://www.playninjagolf.com/event/minitourneys-sponsored-by-culvers/
LOCATION:Ninja Golf\, 12080 Adams Rd\, Granger\, IN\, 46530\, United States
ATTACH;FMTTYPE=image/jpeg:https://www.playninjagolf.com/wp-content/uploads/2026/04/mini-tourney-kawaii-blue.jpg
END:VEVENT
BEGIN:VEVENT
DTSTART;TZID=America/New_York:20260618T180000
DTEND;TZID=America/New_York:20260618T200000
DTSTAMP:20260421T103213
CREATED:20260415T151415Z
LAST-MODIFIED:20260420T180656Z
UID:4351-1781805600-1781812800@www.playninjagolf.com
SUMMARY:MiniTourneys! Sponsored by Culver's
DESCRIPTION:Think you’ve got what it takes to be a mini golf champ\, or just love a little friendly competition? Join us at Ninja Golf every Thursday night this summer for MiniTourneys. \n\nDates: June 11\, 18\, 25 • July 2\, 9\, 16\, 23\, 30 • August 6\nCheck-in: 6:00 PM\nTee-off: 6:30 PM\nWrap-up: Around 8:00 PM\nEntry Fee: $5 per player\n\nWith both Pro and Not-A-Pro divisions\, this event is open to all ages and skill levels. Whether you’re experienced or playing for the first time\, everyone is welcome. \nEnjoy weekly prizes\, great food\, and of course\, ice cream. \nGrab your friends\, bring your best game\, and make Thursday nights a highlight of your summer. No registration needed. Just show up and play.
URL:https://www.playninjagolf.com/event/minitourneys-sponsored-by-culvers-2/
LOCATION:Ninja Golf\, 12080 Adams Rd\, Granger\, IN\, 46530\, United States
ATTACH;FMTTYPE=image/jpeg:https://www.playninjagolf.com/wp-content/uploads/2026/04/mini-tourney-kawaii-blue.jpg
END:VEVENT
BEGIN:VEVENT
DTSTART;TZID=America/New_York:20260620T100000
DTEND;TZID=America/New_York:20260620T140000
DTSTAMP:20260421T103213
CREATED:20220503T164925Z
LAST-MODIFIED:20260415T150416Z
UID:3105-1781949600-1781964000@www.playninjagolf.com
SUMMARY:5th Annual Ninja Golf! Open Sponsored by Centier Bank
DESCRIPTION:Join us for the 5th Annual Ninja Golf Open on Saturday\, June 20\, with a new 10:00 AM tee-off time. \nThis year’s tournament brings exciting updates\, including three player categories designed for all skill levels. Whether you’re playing for fun or going for the top prize\, there’s a place for you on the course. \nPlayer Categories: \n\nPro Division for competitive players going for the top cash prize\nLocals & Friendlies Division for casual players who want to enjoy the game without the pressure\nKids Division with a lower entry fee to encourage more young players to join the fun\n\nWe are now accepting registrations\, and Members and Buddy Pass holders receive 20% off entry. \nAll players will enjoy a complimentary lunch sponsored by Dean’s Barbecue\, making this not just a tournament\, but a full day of great food\, competition\, and community. \nWhether you’re aiming to win or just want to be part of the experience\, the Ninja Golf Open is one of the highlights of the summer. \nSpots are limited! Email contact@playninjagolf.com to register and secure your chance to play in the most exciting mini-golf event of the year!
URL:https://www.playninjagolf.com/event/ninja-golf-open/
LOCATION:Ninja Golf\, 12080 Adams Rd\, Granger\, IN\, 46530\, United States
ATTACH;FMTTYPE=image/jpeg:https://www.playninjagolf.com/wp-content/uploads/2022/05/Ninja-Golf-Open-1.jpg
END:VEVENT
BEGIN:VEVENT
DTSTART;VALUE=DATE:20260621
DTEND;VALUE=DATE:20260622
DTSTAMP:20260421T103213
CREATED:20210614T194932Z
LAST-MODIFIED:20260415T150026Z
UID:2815-1782000000-1782086399@www.playninjagolf.com
SUMMARY:Father's Day at Ninja Golf
DESCRIPTION:Celebrate Dad with a day of fun at Ninja Golf on Sunday\, June 21. As a special treat\, all dads play mini golf for FREE all day. \nBring the family out to enjoy the course together and make some great memories. While you’re here\, don’t miss our Root Beer Float Special for just $5\, available all day long. \nIt’s the perfect way to treat Dad to a fun\, memorable day.
URL:https://www.playninjagolf.com/event/fathers-day-at-ninja-golf/
LOCATION:Ninja Golf\, 12080 Adams Rd\, Granger\, IN\, 46530\, United States
ATTACH;FMTTYPE=image/png:https://www.playninjagolf.com/wp-content/uploads/2021/06/Ninja-Graphics.png
END:VEVENT
BEGIN:VEVENT
DTSTART;TZID=America/New_York:20260625T180000
DTEND;TZID=America/New_York:20260625T200000
DTSTAMP:20260421T103213
CREATED:20260415T151501Z
LAST-MODIFIED:20260420T180725Z
UID:4350-1782410400-1782417600@www.playninjagolf.com
SUMMARY:MiniTourneys! Sponsored by Culver's
DESCRIPTION:Think you’ve got what it takes to be a mini golf champ\, or just love a little friendly competition? Join us at Ninja Golf every Thursday night this summer for MiniTourneys. \n\nDates: June 11\, 18\, 25 • July 2\, 9\, 16\, 23\, 30 • August 6\nCheck-in: 6:00 PM\nTee-off: 6:30 PM\nWrap-up: Around 8:00 PM\nEntry Fee: $5 per player\n\nWith both Pro and Not-A-Pro divisions\, this event is open to all ages and skill levels. Whether you’re experienced or playing for the first time\, everyone is welcome. \nEnjoy weekly prizes\, great food\, and of course\, ice cream. \nGrab your friends\, bring your best game\, and make Thursday nights a highlight of your summer. No registration needed. Just show up and play.
URL:https://www.playninjagolf.com/event/minitourneys-sponsored-by-culvers-3/
LOCATION:Ninja Golf\, 12080 Adams Rd\, Granger\, IN\, 46530\, United States
ATTACH;FMTTYPE=image/jpeg:https://www.playninjagolf.com/wp-content/uploads/2026/04/mini-tourney-kawaii-blue.jpg
END:VEVENT
END:VCALENDAR