BEGIN:VCALENDAR
VERSION:2.0
PRODID:-//Ninja Golf! - ECPv6.15.20//NONSGML v1.0//EN
CALSCALE:GREGORIAN
METHOD:PUBLISH
X-ORIGINAL-URL:https://www.playninjagolf.com
X-WR-CALDESC:Events for Ninja Golf!
REFRESH-INTERVAL;VALUE=DURATION:PT1H
X-Robots-Tag:noindex
X-PUBLISHED-TTL:PT1H
BEGIN:VTIMEZONE
TZID:America/New_York
BEGIN:DAYLIGHT
TZOFFSETFROM:-0500
TZOFFSETTO:-0400
TZNAME:EDT
DTSTART:20250309T070000
END:DAYLIGHT
BEGIN:STANDARD
TZOFFSETFROM:-0400
TZOFFSETTO:-0500
TZNAME:EST
DTSTART:20251102T060000
END:STANDARD
BEGIN:DAYLIGHT
TZOFFSETFROM:-0500
TZOFFSETTO:-0400
TZNAME:EDT
DTSTART:20260308T070000
END:DAYLIGHT
BEGIN:STANDARD
TZOFFSETFROM:-0400
TZOFFSETTO:-0500
TZNAME:EST
DTSTART:20261101T060000
END:STANDARD
BEGIN:DAYLIGHT
TZOFFSETFROM:-0500
TZOFFSETTO:-0400
TZNAME:EDT
DTSTART:20270314T070000
END:DAYLIGHT
BEGIN:STANDARD
TZOFFSETFROM:-0400
TZOFFSETTO:-0500
TZNAME:EST
DTSTART:20271107T060000
END:STANDARD
END:VTIMEZONE
BEGIN:VEVENT
DTSTART;VALUE=DATE:20260502
DTEND;VALUE=DATE:20260503
DTSTAMP:20260421T090340
CREATED:20260323T161734Z
LAST-MODIFIED:20260323T161734Z
UID:4281-1777680000-1777766399@www.playninjagolf.com
SUMMARY:Dress Like a Ninja Day!
DESCRIPTION:Channel your inner ninja and join us for Dress Like a Ninja Day\, happening on the first Saturday of every month from March through October at Ninja Golf. If you show up dressed like a ninja\, you get to play mini golf for FREE! \nYes\, really. Free. Basho approved. \nBut remember\, full effort counts. This is more than just a headband. Show us your best ninja style and you might earn an extra reward from our staff. Think ice cream\, a Japanese soda\, or another surprise treat. We will also be picking our favorite ninja outfits and handing out special prizes. \nEvent details: \n\nFirst Saturday of each month\nMarch through October\nDress like a ninja to play mini golf for FREE\nCreative costumes encouraged\nStaff favorite outfits win special treats or prizes\n\nDress like a ninja. Play like a ninja. Have some fun with it. Basho says hai.
URL:https://www.playninjagolf.com/event/dress-like-a-ninja-day-2/
LOCATION:Ninja Golf\, 12080 Adams Rd\, Granger\, IN\, 46530\, United States
ATTACH;FMTTYPE=image/png:https://www.playninjagolf.com/wp-content/uploads/2026/03/Dress-like-a-ninja-cover.png
END:VEVENT
BEGIN:VEVENT
DTSTART;TZID=America/New_York:20260503T140000
DTEND;TZID=America/New_York:20260503T153000
DTSTAMP:20260421T090340
CREATED:20260323T160839Z
LAST-MODIFIED:20260415T132041Z
UID:4278-1777816800-1777822200@www.playninjagolf.com
SUMMARY:Coffee and Canvas Canvas Bag Painting
DESCRIPTION:Join us for a cozy Coffee & Canvas class where you’ll customize your own canvas bag with creative designs. More details coming soon. \nNo experience is needed — your canvas will be ready\, and I’ll guide you step-by-step through the entire process. You’ll learn simple layering and blending techniques to bring your mushrooms to life with depth and charm. \nAll supplies are included. Just bring yourself (and maybe a friend!). \nCome sip\, paint\, and leave with a finished piece you’ll be proud to display. Spots are limited — reserve yours soon! \nSign up at debrakart.com/workshops.
URL:https://www.playninjagolf.com/event/coffee-and-canvas-canvas-bag-painting/
LOCATION:Ninja Golf\, 12080 Adams Rd\, Granger\, IN\, 46530\, United States
ATTACH;FMTTYPE=image/jpeg:https://www.playninjagolf.com/wp-content/uploads/2025/02/Coffee-Canvas-Debra-K-Art.jpg
END:VEVENT
BEGIN:VEVENT
DTSTART;VALUE=DATE:20260510
DTEND;VALUE=DATE:20260511
DTSTAMP:20260421T090340
CREATED:20220415T135802Z
LAST-MODIFIED:20260304T161349Z
UID:3079-1778371200-1778457599@www.playninjagolf.com
SUMMARY:Mother's Day Celebration
DESCRIPTION:Treat the amazing moms and grandmas in your life to a day of fun and relaxation at Ninja Golf. On Sunday\, May 10th\, all moms and grandmas play mini golf for free all day long! \nWhether you’re playing a round\, strolling through the Habu Forest\, or just enjoying the atmosphere\, it’s the perfect way to make memories together.
URL:https://www.playninjagolf.com/event/mothers-day-celebration/
LOCATION:Ninja Golf\, 12080 Adams Rd\, Granger\, IN\, 46530\, United States
ATTACH;FMTTYPE=image/jpeg:https://www.playninjagolf.com/wp-content/uploads/2022/04/Ninja-Mothers-Day-Event-Cover.jpg
END:VEVENT
BEGIN:VEVENT
DTSTART;TZID=America/New_York:20260516T120000
DTEND;TZID=America/New_York:20260516T150000
DTSTAMP:20260421T090340
CREATED:20240226T145947Z
LAST-MODIFIED:20260406T141054Z
UID:3545-1778932800-1778943600@www.playninjagolf.com
SUMMARY:Spring Market
DESCRIPTION:Spring into fun at Ninja Golf’s Spring Market on Saturday\, May 16 from 12:00 to 3:00 PM. Join us for a vibrant afternoon of local shopping\, great food\, and community fun. \nEntry is free\, so come explore a variety of artisan vendors\, enjoy delicious food and drinks\, and make a day of it with a round or two of mini golf. \nBe sure to follow us on Facebook and Instagram @PlayNinjaGolf for updates and vendor spotlights leading up to the event. \nSpecial Feature: Charm Bar by Restyled Furnishings \nCreate your own custom accessory at this interactive make-and-take experience for $8 per item. \nDesign your own: \n\nBag Charms to add personality to your purse\, backpack\, or tote\nLip Gloss Charms to keep your favorite gloss close at hand\n\n  \nChoose from a wide variety of beads and charms to create something uniquely yours. No experience needed. Just stop by\, get creative\, and leave with a one-of-a-kind accessory. \nCome shop\, create\, and celebrate spring with us at Ninja Golf.
URL:https://www.playninjagolf.com/event/spring-market/
LOCATION:Ninja Golf\, 12080 Adams Rd\, Granger\, IN\, 46530\, United States
ATTACH;FMTTYPE=image/jpeg:https://www.playninjagolf.com/wp-content/uploads/2024/02/Spring-Market-Ninja-Event-Cover-1.jpg
END:VEVENT
END:VCALENDAR