BEGIN:VCALENDAR
VERSION:2.0
PRODID:-//Ninja Golf! - ECPv6.15.20//NONSGML v1.0//EN
CALSCALE:GREGORIAN
METHOD:PUBLISH
X-WR-CALNAME:Ninja Golf!
X-ORIGINAL-URL:https://www.playninjagolf.com
X-WR-CALDESC:Events for Ninja Golf!
REFRESH-INTERVAL;VALUE=DURATION:PT1H
X-Robots-Tag:noindex
X-PUBLISHED-TTL:PT1H
BEGIN:VTIMEZONE
TZID:America/New_York
BEGIN:DAYLIGHT
TZOFFSETFROM:-0500
TZOFFSETTO:-0400
TZNAME:EDT
DTSTART:20250309T070000
END:DAYLIGHT
BEGIN:STANDARD
TZOFFSETFROM:-0400
TZOFFSETTO:-0500
TZNAME:EST
DTSTART:20251102T060000
END:STANDARD
BEGIN:DAYLIGHT
TZOFFSETFROM:-0500
TZOFFSETTO:-0400
TZNAME:EDT
DTSTART:20260308T070000
END:DAYLIGHT
BEGIN:STANDARD
TZOFFSETFROM:-0400
TZOFFSETTO:-0500
TZNAME:EST
DTSTART:20261101T060000
END:STANDARD
BEGIN:DAYLIGHT
TZOFFSETFROM:-0500
TZOFFSETTO:-0400
TZNAME:EDT
DTSTART:20270314T070000
END:DAYLIGHT
BEGIN:STANDARD
TZOFFSETFROM:-0400
TZOFFSETTO:-0500
TZNAME:EST
DTSTART:20271107T060000
END:STANDARD
END:VTIMEZONE
BEGIN:VEVENT
DTSTART;VALUE=DATE:20260308
DTEND;VALUE=DATE:20260309
DTSTAMP:20260421T090216
CREATED:20240219T202054Z
LAST-MODIFIED:20260224T201150Z
UID:3513-1772928000-1773014399@www.playninjagolf.com
SUMMARY:Mario Day
DESCRIPTION:“Wahoo!” “It’s Mario Time!” \nJoin us at Ninja Golf on Sunday\, March 8th\, as we celebrate Mario Day in style! We’ll be open Noon to 8 PM as we kick off Daylight Savings hours. \nMario Kart Tournament \nTo sign up\, email contact@playninjagolf.com with the subject line MK Tournament and include the racer’s name and age. Entry is $7 per racer\, payment collected at check-in. \n\nCheck-in: Noon – 1 PM\nTournament starts at 1 PM\nAges 11 & Under\nAges 12 & Up\nSingle-elimination\nControllers provided\n\nAnd best of all… everyone wins a prize! We’ll also have a Mario-themed coloring contest throughout the day. Plus\, wear your Mario World swag (shirts\, hats\, socks\, whatever) and play mini-golf for FREE! \nLet’s-a go!
URL:https://www.playninjagolf.com/event/mar10-mario-day/
LOCATION:Ninja Golf\, 12080 Adams Rd\, Granger\, IN\, 46530\, United States
ATTACH;FMTTYPE=image/jpeg:https://www.playninjagolf.com/wp-content/uploads/2022/01/Mar10-Day.jpg
END:VEVENT
BEGIN:VEVENT
DTSTART;TZID=America/New_York:20260314T100000
DTEND;TZID=America/New_York:20260314T113000
DTSTAMP:20260421T090216
CREATED:20260306T135944Z
LAST-MODIFIED:20260306T135944Z
UID:4249-1773482400-1773487800@www.playninjagolf.com
SUMMARY:Pressed Flower Frame Workshop!
DESCRIPTION:Join us for a relaxing and creative morning designing your own pressed flower artwork! In this hands-on workshop\, you’ll use real dried flowers to create a one-of-a-kind botanical design\, whether that’s a delicate floral arrangement\, a meaningful shape\, or an abstract nature-inspired piece. \nThis class is perfect for all skill levels. No experience needed\, just come ready to create and enjoy a peaceful\, creative start to your weekend. \nFrame Options: \n\n4×6 Brass Frame – $35\n4×6 Wood Frame – $30\n\nAll materials are included\, and step-by-step guidance will be provided. You’ll leave with a beautiful pressed-flower piece ready to display in your home or gift to someone special. \nSpots are limited! Reserve your seat and create something lovely with us! \nhttps://debrakart.com/product/pressed-flower-frame-workshop/
URL:https://www.playninjagolf.com/event/pressed-flower-frame-workshop/
LOCATION:Ninja Golf\, 12080 Adams Rd\, Granger\, IN\, 46530\, United States
ATTACH;FMTTYPE=image/jpeg:https://www.playninjagolf.com/wp-content/uploads/2026/03/Pressed-Flower-Frame-Workshop.jpg
END:VEVENT
BEGIN:VEVENT
DTSTART;TZID=America/New_York:20260315T150000
DTEND;TZID=America/New_York:20260315T163000
DTSTAMP:20260421T090216
CREATED:20260310T140540Z
LAST-MODIFIED:20260310T140540Z
UID:4263-1773586800-1773592200@www.playninjagolf.com
SUMMARY:Ninja Bingo! The Shamrock Edition!
DESCRIPTION:Join us Sunday\, March 15th from 3:00 to 4:30 PM for Ninja Bingo! The Shamrock Edition! \nOne of our most popular indoor events is getting a lucky twist. Bingo begins promptly at 3 PM\, with entry just $5 and additional cards available for $2 each. Arrive a little early to grab a seat and enjoy a sweet treat before the games begin. \nThis event is fun for all ages\, whether you’re a seasoned Bingo player or trying it for the first time. Plus\, we’ve got some great prizes waiting to be won. Don’t miss the fun. We’ll see you there!
URL:https://www.playninjagolf.com/event/ninja-bingo-the-shamrock-edition/
LOCATION:Ninja Golf\, 12080 Adams Rd\, Granger\, IN\, 46530\, United States
ATTACH;FMTTYPE=image/jpeg:https://www.playninjagolf.com/wp-content/uploads/2026/03/Ninja-Bingo-The-Shamrock-Edition.jpg
END:VEVENT
BEGIN:VEVENT
DTSTART;TZID=America/New_York:20260327T170000
DTEND;TZID=America/New_York:20260327T190000
DTSTAMP:20260421T090216
CREATED:20250925T133504Z
LAST-MODIFIED:20260314T181559Z
UID:4102-1774630800-1774638000@www.playninjagolf.com
SUMMARY:Pokémon Trade Night!
DESCRIPTION:Calling all trainers! Join us at Ninja Golf for a special Pokémon Trade Night in partnership with The Trainer Pack in Granger — your go-to source for all things Pokémon cards. \nBring your collection and connect with fellow trainers for an evening of trading\, battling\, buying\, and selling cards. Whether you’re a seasoned collector or just starting out\, this is the perfect chance to grow your deck and meet other fans. \nDon’t miss out on this fun community event hosted by The Trainer Pack! \nBackground photo by Thimo Pedersen on Unsplash
URL:https://www.playninjagolf.com/event/pokemon-trade-night/
LOCATION:Ninja Golf\, 12080 Adams Rd\, Granger\, IN\, 46530\, United States
ATTACH;FMTTYPE=image/jpeg:https://www.playninjagolf.com/wp-content/uploads/2025/09/Pokemon-Trade-Night-Event-Cover.jpg
END:VEVENT
END:VCALENDAR