BEGIN:VCALENDAR
VERSION:2.0
PRODID:-//Ninja Golf! - ECPv6.15.20//NONSGML v1.0//EN
CALSCALE:GREGORIAN
METHOD:PUBLISH
X-WR-CALNAME:Ninja Golf!
X-ORIGINAL-URL:https://www.playninjagolf.com
X-WR-CALDESC:Events for Ninja Golf!
REFRESH-INTERVAL;VALUE=DURATION:PT1H
X-Robots-Tag:noindex
X-PUBLISHED-TTL:PT1H
BEGIN:VTIMEZONE
TZID:America/New_York
BEGIN:DAYLIGHT
TZOFFSETFROM:-0500
TZOFFSETTO:-0400
TZNAME:EDT
DTSTART:20250309T070000
END:DAYLIGHT
BEGIN:STANDARD
TZOFFSETFROM:-0400
TZOFFSETTO:-0500
TZNAME:EST
DTSTART:20251102T060000
END:STANDARD
BEGIN:DAYLIGHT
TZOFFSETFROM:-0500
TZOFFSETTO:-0400
TZNAME:EDT
DTSTART:20260308T070000
END:DAYLIGHT
BEGIN:STANDARD
TZOFFSETFROM:-0400
TZOFFSETTO:-0500
TZNAME:EST
DTSTART:20261101T060000
END:STANDARD
BEGIN:DAYLIGHT
TZOFFSETFROM:-0500
TZOFFSETTO:-0400
TZNAME:EDT
DTSTART:20270314T070000
END:DAYLIGHT
BEGIN:STANDARD
TZOFFSETFROM:-0400
TZOFFSETTO:-0500
TZNAME:EST
DTSTART:20271107T060000
END:STANDARD
END:VTIMEZONE
BEGIN:VEVENT
DTSTART;TZID=America/New_York:20260730T180000
DTEND;TZID=America/New_York:20260730T200000
DTSTAMP:20260421T160606
CREATED:20240701T015310Z
LAST-MODIFIED:20260420T180903Z
UID:3760-1785434400-1785441600@www.playninjagolf.com
SUMMARY:MiniTourneys! Sponsored by Culver's
DESCRIPTION:Think you’ve got what it takes to be a mini golf champ\, or just love a little friendly competition? Join us at Ninja Golf every Thursday night this summer for MiniTourneys. \n\nDates: June 11\, 18\, 25 • July 2\, 9\, 16\, 23\, 30 • August 6\nCheck-in: 6:00 PM\nTee-off: 6:30 PM\nWrap-up: Around 8:00 PM\nEntry Fee: $5 per player\n\nWith both Pro and Not-A-Pro divisions\, this event is open to all ages and skill levels. Whether you’re experienced or playing for the first time\, everyone is welcome. \nEnjoy weekly prizes\, great food\, and of course\, ice cream. \nGrab your friends\, bring your best game\, and make Thursday nights a highlight of your summer. No registration needed. Just show up and play.
URL:https://www.playninjagolf.com/event/minitourneys-sponsored-by-culvers-8/
LOCATION:Ninja Golf\, 12080 Adams Rd\, Granger\, IN\, 46530\, United States
ATTACH;FMTTYPE=image/jpeg:https://www.playninjagolf.com/wp-content/uploads/2026/04/mini-tourney-kawaii-blue.jpg
END:VEVENT
BEGIN:VEVENT
DTSTART;VALUE=DATE:20260801
DTEND;VALUE=DATE:20260802
DTSTAMP:20260421T160606
CREATED:20260323T162105Z
LAST-MODIFIED:20260323T162105Z
UID:4287-1785542400-1785628799@www.playninjagolf.com
SUMMARY:Dress Like a Ninja Day!
DESCRIPTION:Channel your inner ninja and join us for Dress Like a Ninja Day\, happening on the first Saturday of every month from March through October at Ninja Golf. If you show up dressed like a ninja\, you get to play mini golf for FREE! \nYes\, really. Free. Basho approved. \nBut remember\, full effort counts. This is more than just a headband. Show us your best ninja style and you might earn an extra reward from our staff. Think ice cream\, a Japanese soda\, or another surprise treat. We will also be picking our favorite ninja outfits and handing out special prizes. \nEvent details: \n\nFirst Saturday of each month\nMarch through October\nDress like a ninja to play mini golf for FREE\nCreative costumes encouraged\nStaff favorite outfits win special treats or prizes\n\nDress like a ninja. Play like a ninja. Have some fun with it. Basho says hai.
URL:https://www.playninjagolf.com/event/dress-like-a-ninja-day-5/
LOCATION:Ninja Golf\, 12080 Adams Rd\, Granger\, IN\, 46530\, United States
ATTACH;FMTTYPE=image/png:https://www.playninjagolf.com/wp-content/uploads/2026/03/Dress-like-a-ninja-cover.png
END:VEVENT
BEGIN:VEVENT
DTSTART;TZID=America/New_York:20260806T180000
DTEND;TZID=America/New_York:20260806T200000
DTSTAMP:20260421T160606
CREATED:20260415T151719Z
LAST-MODIFIED:20260420T180918Z
UID:4349-1786039200-1786046400@www.playninjagolf.com
SUMMARY:MiniTourneys! Sponsored by Culver's
DESCRIPTION:Think you’ve got what it takes to be a mini golf champ\, or just love a little friendly competition? Join us at Ninja Golf every Thursday night this summer for MiniTourneys. \n\nDates: June 11\, 18\, 25 • July 2\, 9\, 16\, 23\, 30 • August 6\nCheck-in: 6:00 PM\nTee-off: 6:30 PM\nWrap-up: Around 8:00 PM\nEntry Fee: $5 per player\n\nWith both Pro and Not-A-Pro divisions\, this event is open to all ages and skill levels. Whether you’re experienced or playing for the first time\, everyone is welcome. \nEnjoy weekly prizes\, great food\, and of course\, ice cream. \nGrab your friends\, bring your best game\, and make Thursday nights a highlight of your summer. No registration needed. Just show up and play.
URL:https://www.playninjagolf.com/event/minitourneys-sponsored-by-culvers-9/
LOCATION:Ninja Golf\, 12080 Adams Rd\, Granger\, IN\, 46530\, United States
ATTACH;FMTTYPE=image/jpeg:https://www.playninjagolf.com/wp-content/uploads/2026/04/mini-tourney-kawaii-blue.jpg
END:VEVENT
BEGIN:VEVENT
DTSTART;VALUE=DATE:20260905
DTEND;VALUE=DATE:20260906
DTSTAMP:20260421T160606
CREATED:20260323T162258Z
LAST-MODIFIED:20260323T162258Z
UID:4289-1788566400-1788652799@www.playninjagolf.com
SUMMARY:Dress Like a Ninja Day!
DESCRIPTION:Channel your inner ninja and join us for Dress Like a Ninja Day\, happening on the first Saturday of every month from March through October at Ninja Golf. If you show up dressed like a ninja\, you get to play mini golf for FREE! \nYes\, really. Free. Basho approved. \nBut remember\, full effort counts. This is more than just a headband. Show us your best ninja style and you might earn an extra reward from our staff. Think ice cream\, a Japanese soda\, or another surprise treat. We will also be picking our favorite ninja outfits and handing out special prizes. \nEvent details: \n\nFirst Saturday of each month\nMarch through October\nDress like a ninja to play mini golf for FREE\nCreative costumes encouraged\nStaff favorite outfits win special treats or prizes\n\nDress like a ninja. Play like a ninja. Have some fun with it. Basho says hai.
URL:https://www.playninjagolf.com/event/dress-like-a-ninja-day-6/
LOCATION:Ninja Golf\, 12080 Adams Rd\, Granger\, IN\, 46530\, United States
ATTACH;FMTTYPE=image/png:https://www.playninjagolf.com/wp-content/uploads/2026/03/Dress-like-a-ninja-cover.png
END:VEVENT
BEGIN:VEVENT
DTSTART;VALUE=DATE:20261003
DTEND;VALUE=DATE:20261004
DTSTAMP:20260421T160606
CREATED:20260323T162348Z
LAST-MODIFIED:20260323T162348Z
UID:4291-1790985600-1791071999@www.playninjagolf.com
SUMMARY:Dress Like a Ninja Day!
DESCRIPTION:Channel your inner ninja and join us for Dress Like a Ninja Day\, happening on the first Saturday of every month from March through October at Ninja Golf. If you show up dressed like a ninja\, you get to play mini golf for FREE! \nYes\, really. Free. Basho approved. \nBut remember\, full effort counts. This is more than just a headband. Show us your best ninja style and you might earn an extra reward from our staff. Think ice cream\, a Japanese soda\, or another surprise treat. We will also be picking our favorite ninja outfits and handing out special prizes. \nEvent details: \n\nFirst Saturday of each month\nMarch through October\nDress like a ninja to play mini golf for FREE\nCreative costumes encouraged\nStaff favorite outfits win special treats or prizes\n\nDress like a ninja. Play like a ninja. Have some fun with it. Basho says hai.
URL:https://www.playninjagolf.com/event/dress-like-a-ninja-day-7/
LOCATION:Ninja Golf\, 12080 Adams Rd\, Granger\, IN\, 46530\, United States
ATTACH;FMTTYPE=image/png:https://www.playninjagolf.com/wp-content/uploads/2026/03/Dress-like-a-ninja-cover.png
END:VEVENT
END:VCALENDAR