BEGIN:VCALENDAR
VERSION:2.0
PRODID:-//Ninja Golf! - ECPv6.15.20//NONSGML v1.0//EN
CALSCALE:GREGORIAN
METHOD:PUBLISH
X-WR-CALNAME:Ninja Golf!
X-ORIGINAL-URL:https://www.playninjagolf.com
X-WR-CALDESC:Events for Ninja Golf!
REFRESH-INTERVAL;VALUE=DURATION:PT1H
X-Robots-Tag:noindex
X-PUBLISHED-TTL:PT1H
BEGIN:VTIMEZONE
TZID:America/New_York
BEGIN:DAYLIGHT
TZOFFSETFROM:-0500
TZOFFSETTO:-0400
TZNAME:EDT
DTSTART:20240310T070000
END:DAYLIGHT
BEGIN:STANDARD
TZOFFSETFROM:-0400
TZOFFSETTO:-0500
TZNAME:EST
DTSTART:20241103T060000
END:STANDARD
BEGIN:DAYLIGHT
TZOFFSETFROM:-0500
TZOFFSETTO:-0400
TZNAME:EDT
DTSTART:20250309T070000
END:DAYLIGHT
BEGIN:STANDARD
TZOFFSETFROM:-0400
TZOFFSETTO:-0500
TZNAME:EST
DTSTART:20251102T060000
END:STANDARD
BEGIN:DAYLIGHT
TZOFFSETFROM:-0500
TZOFFSETTO:-0400
TZNAME:EDT
DTSTART:20260308T070000
END:DAYLIGHT
BEGIN:STANDARD
TZOFFSETFROM:-0400
TZOFFSETTO:-0500
TZNAME:EST
DTSTART:20261101T060000
END:STANDARD
END:VTIMEZONE
BEGIN:VTIMEZONE
TZID:UTC
BEGIN:STANDARD
TZOFFSETFROM:+0000
TZOFFSETTO:+0000
TZNAME:UTC
DTSTART:20240101T000000
END:STANDARD
END:VTIMEZONE
BEGIN:VEVENT
DTSTART;TZID=America/New_York:20251214T150000
DTEND;TZID=America/New_York:20251214T163000
DTSTAMP:20260422T184328
CREATED:20251208T175725Z
LAST-MODIFIED:20251208T175725Z
UID:4177-1765724400-1765729800@www.playninjagolf.com
SUMMARY:Ninja Holiday Bingo!
DESCRIPTION:Ninja Holiday Bingo is HERE! \nJoin us for a special Holiday Edition of Ninja Bingo on Sunday\, December 14th from 3 to 4:30 PM at Ninja Golf! \nEntry is just $5\, and you can play even more by adding extra Bingo cards for $2 each. \nWe’ll have festive fun\, holiday cheer\, and exciting prizes for all ages. Bingo starts promptly at 3 PM\, so arrive a little early to grab a seat and enjoy a sweet treat before the games begin. \nWhether you’re a Bingo regular or playing for the first time\, this holiday session is packed with surprises and merry moments.
URL:https://www.playninjagolf.com/event/ninja-holiday-bingo/
LOCATION:Ninja Golf\, 12080 Adams Rd\, Granger\, IN\, 46530\, United States
ATTACH;FMTTYPE=image/png:https://www.playninjagolf.com/wp-content/uploads/2025/12/Ninja-Holiday-Bingo-Cover.png
END:VEVENT
BEGIN:VEVENT
DTSTART;TZID=America/New_York:20251206T120000
DTEND;TZID=America/New_York:20251206T150000
DTSTAMP:20260422T184328
CREATED:20221116T163305Z
LAST-MODIFIED:20251126T151932Z
UID:3187-1765022400-1765033200@www.playninjagolf.com
SUMMARY:Holiday Market!
DESCRIPTION:Celebrate the season at the 6th Annual Ninja Golf Holiday Market! Bring your family and friends for a festive afternoon filled with shopping\, treats\, holiday activities\, and free fun for all ages. \nEnjoy browsing local vendors and sipping cocoa by the s’mores bar! \nVendors Include: AliLee Creations • Cottonteal Handmade • Golden Paws Candle Company • Retro Boy Graphics • Hooks & Loops • Bread Buddies • Sarah Linder Designs • Louise Studios • Botany Shop • Victorian Pantry • Lacey Dilly Pottery \nPlus\, don’t miss appearances from Samurai Santa\, adding extra holiday magic for kids and families. While you’re here\, stop by Botany & Co.’s booth to craft your own mini winter wreath at their pop-up station during the market. If you’d like to take your wreath-making skills even further\, Botany & Co. is also hosting in-depth 24″ wreath workshops on December 5\, 6\, and 7\, with the December 7 workshop taking place after the Holiday Market. Learn more and reserve your spot to create a beautiful\, fresh holiday wreath! \nCome enjoy a festive day at Ninja Golf filled with shopping\, sweet treats\, Christmas cheer\, and holiday memories for the whole family. \nVendors interested in joining the market can contact Olivia Miller at Olivia@playninjagolf.com. \nFollow @PlayNinjaGolf on social media for more event updates!
URL:https://www.playninjagolf.com/event/holiday-market/
LOCATION:Ninja Golf\, 12080 Adams Rd\, Granger\, IN\, 46530\, United States
ATTACH;FMTTYPE=image/jpeg:https://www.playninjagolf.com/wp-content/uploads/2022/11/370586408_825733119557690_2308556949531692120_n.jpg
END:VEVENT
BEGIN:VEVENT
DTSTART;VALUE=DATE:20251205
DTEND;VALUE=DATE:20251208
DTSTAMP:20260422T184328
CREATED:20251027T132928Z
LAST-MODIFIED:20251027T133142Z
UID:4132-1764892800-1765151999@www.playninjagolf.com
SUMMARY:Holiday Wreath Making Workshop
DESCRIPTION:Bring the magic of the season to life at Ninja Golf with Botany & Co.! In this festive workshop\, you’ll create your own stunning 24” holiday wreath featuring fresh greens and your choice of pre-made bow. Each class is limited to 20 participants\, making it a hands-on\, intimate experience where you can craft\, laugh\, and celebrate the season. \nThis workshop is perfect for friends\, family\, or a special someone looking for a fun holiday outing—and you’ll leave with a gorgeous wreath to proudly display at home! \nDetails & Tickets: \n\nFriday\, Dec. 5 – 5:30 PM to 7:30 PM | Reserve Friday Ticket\nSaturday\, Dec. 6 – 5:30 PM to 7:30 PM | Reserve Saturday Ticket\nSunday\, Dec. 7 – 9:30 AM to 11:00 AM | Reserve Sunday Ticket\n\nTickets are $55.20 per person and include all supplies and expert instruction.\nHurry—spaces are limited\, so reserve your spot today!
URL:https://www.playninjagolf.com/event/holiday-wreath-making-workshop/
LOCATION:Ninja Golf\, 12080 Adams Rd\, Granger\, IN\, 46530\, United States
ATTACH;FMTTYPE=image/jpeg:https://www.playninjagolf.com/wp-content/uploads/2025/10/wreath-workshop.jpg
END:VEVENT
BEGIN:VEVENT
DTSTART;TZID=America/New_York:20251101T170000
DTEND;TZID=America/New_York:20251101T190000
DTSTAMP:20260422T184328
CREATED:20241105T201606Z
LAST-MODIFIED:20251014T171804Z
UID:3849-1762016400-1762023600@www.playninjagolf.com
SUMMARY:Interstellar Kpop Night
DESCRIPTION:Join Interstellar KPop for an evening full of music\, karaoke\, vendors\, sweets\, photo opportunities\, giveaways\, and more. \nCelebrate your favorite K-pop artists\, connect with fellow fans\, and enjoy activities and freebies throughout the night. Bring your friends\, your merch\, and your K-pop energy for a fun and memorable event. \nVendor applications now open at https://docs.google.com/forms/d/e/1FAIpQLSexkA7iQdhgk570w9k0_juDu3GkhtitllhAGxTkCEAQpWbXlQ/viewform
URL:https://www.playninjagolf.com/event/interstellar-kpop-night/
LOCATION:Ninja Golf\, 12080 Adams Rd\, Granger\, IN\, 46530\, United States
ATTACH;FMTTYPE=image/jpeg:https://www.playninjagolf.com/wp-content/uploads/2024/11/Image-1.jpg
END:VEVENT
BEGIN:VEVENT
DTSTART;VALUE=DATE:20251025
DTEND;VALUE=DATE:20251026
DTSTAMP:20260422T184328
CREATED:20211012T141048Z
LAST-MODIFIED:20250925T133454Z
UID:2931-1761350400-1761436799@www.playninjagolf.com
SUMMARY:Spooky Halloween Party and Costume Contest!
DESCRIPTION:Get ready for a frightfully fun day at Ninja Golf! Our all-ages Halloween Costume Contest & Mini Golf Party is back and better than ever. \nCome dressed in your best costume and enjoy a FREE round of mini golf! Enter the costume contest for a chance to win Family Adventure Packs\, and every kid will take home a special treat bag from Ninja Golf. \nIt’s a full day of festive vibes\, friendly competition\, and “tastefully Halloween” fun for the whole family. \nDon’t miss out — join us on October 25 and make this spooky season unforgettable!
URL:https://www.playninjagolf.com/event/halloween-party/
LOCATION:Ninja Golf\, 12080 Adams Rd\, Granger\, IN\, 46530\, United States
ATTACH;FMTTYPE=image/jpeg:https://www.playninjagolf.com/wp-content/uploads/2021/10/Spooky-Halloween-Party-Event-Cover.jpg
END:VEVENT
BEGIN:VEVENT
DTSTART;TZID=America/New_York:20251019T140000
DTEND;TZID=America/New_York:20251019T180000
DTSTAMP:20260422T184328
CREATED:20241113T181352Z
LAST-MODIFIED:20250925T133647Z
UID:3861-1760882400-1760896800@www.playninjagolf.com
SUMMARY:Let's Minigolf S'More
DESCRIPTION:Fall fun is even sweeter at Ninja Golf! Join us for Let’s Minigolf S’More for an afternoon of mini-golf\, community\, and of course\, delicious s’mores roasted with our very own Basho. \nPlay a round of golf\, then gather around to make your perfect gooey\, chocolatey treat. This FREE add-on is our way of saying Arigatou! to the wonderful families and friends who make Ninja Golf special. \nNo supplies needed — just bring your crew and your sweet tooth. Come make a new seasonal tradition with us at Ninja Golf!
URL:https://www.playninjagolf.com/event/lets-minigolf-smore/
LOCATION:Ninja Golf\, 12080 Adams Rd\, Granger\, IN\, 46530\, United States
ATTACH;FMTTYPE=image/jpeg:https://www.playninjagolf.com/wp-content/uploads/2024/11/Lets-Minigolf-Smore.jpg
END:VEVENT
BEGIN:VEVENT
DTSTART;TZID=America/New_York:20251018T100000
DTEND;TZID=America/New_York:20251018T120000
DTSTAMP:20260422T184328
CREATED:20240409T155440Z
LAST-MODIFIED:20250813T170300Z
UID:3675-1760781600-1760788800@www.playninjagolf.com
SUMMARY:Member’s Morning
DESCRIPTION:MEMBERS & BUDDY PASS HOLDERS\, Member’s Morning is back this Saturday\, October 18th from 10AM–Noon\, and you won’t want to miss it! \nAs always\, enjoy mini golf\, donuts\, and your choice of Victorian Pantry coffee or cocoa. \nVisit playninjagolf.com/buy-membership/
URL:https://www.playninjagolf.com/event/members-morning-2/
LOCATION:Ninja Golf\, 12080 Adams Rd\, Granger\, IN\, 46530\, United States
ATTACH;FMTTYPE=image/png:https://www.playninjagolf.com/wp-content/uploads/2024/04/Members-Morning.png
END:VEVENT
BEGIN:VEVENT
DTSTART;VALUE=DATE:20251003
DTEND;VALUE=DATE:20251027
DTSTAMP:20260422T184328
CREATED:20241004T131851Z
LAST-MODIFIED:20250925T123749Z
UID:3837-1759449600-1761523199@www.playninjagolf.com
SUMMARY:Monsters and Villains Scavenger Hunt
DESCRIPTION:Unleash your inner detective at Ninja Golf’s Monsters and Villains Scavenger Hunt! \nDates: October 3rd through 26th\, during regular business hours. \nCost: Absolutely FREE! \nPrizes: Winners chosen and notified by November 6th. Enjoy a first-come\, first-pick of Funko Pops and other fun prizes! \nDon’t miss your chance to hunt down spooky characters and claim your reward. It’s fun for all ages\, so gather your friends and family for a monstrous adventure!
URL:https://www.playninjagolf.com/event/monsters-and-villains-scavenger-hunt/
LOCATION:Ninja Golf\, 12080 Adams Rd\, Granger\, IN\, 46530\, United States
ATTACH;FMTTYPE=image/jpeg:https://www.playninjagolf.com/wp-content/uploads/2024/10/Monsters-Villains-Scavenger-Hunt.jpg
END:VEVENT
BEGIN:VEVENT
DTSTART;TZID=America/New_York:20250919T173000
DTEND;TZID=America/New_York:20250919T193000
DTSTAMP:20260422T184328
CREATED:20250430T175759Z
LAST-MODIFIED:20250827T144829Z
UID:4021-1758303000-1758310200@www.playninjagolf.com
SUMMARY:Dinner & Dessert at Ninja Golf!
DESCRIPTION:Join us for a relaxing evening at Ninja Golf! on Friday\, September 19th\, as we welcome back the A Bite With Mee food truck. Their unique blend of delicious\, healthy meals makes it easy to treat yourself and feel great doing it. \nAnd what’s dinner without dessert? When you grab a meal from A Bite With Mee\, you’ll receive a free mini-scoop of Ashby’s ice cream—our way of finishing your evening on a sweet note. \nHealthy food and a little indulgence — it’s the perfect combo!
URL:https://www.playninjagolf.com/event/dinner-dessert-at-ninja-golf/
LOCATION:Ninja Golf\, 12080 Adams Rd\, Granger\, IN\, 46530\, United States
ATTACH;FMTTYPE=image/jpeg:https://www.playninjagolf.com/wp-content/uploads/2025/04/Ninja-Dinner-and-Dessent-Event-Cover.jpg
END:VEVENT
BEGIN:VEVENT
DTSTART;TZID=America/New_York:20250823T090000
DTEND;TZID=America/New_York:20250823T120000
DTSTAMP:20260422T184328
CREATED:20240816T143918Z
LAST-MODIFIED:20250818T155451Z
UID:3792-1755939600-1755950400@www.playninjagolf.com
SUMMARY:WNIT Tiny Tee-Off
DESCRIPTION:Join the Fun & Play for Prizes at Ninja Golf! for the 2nd Annual Tiny Tee-Off! \nWhile Ninja Golf! offers family-friendly fun every day\, we’ve got an EXTRA special event you won’t want to miss. \nPBS Michiana – WNIT and Ninja Golf! are teaming up for a FREE morning of family fun — packed with community resources\, kids’ activities\, and of course\, mini golf! \nHere’s what you can look forward to: \n\nMeet Daniel Tiger – Straight from the Neighborhood of Make-Believe!\nColoring Table – Create\, color\, and take home free coloring books & crayons.\nNature Cat Scavenger Hunt – Search for clues and explore.\nTemporary Tattoo Station – Wear your favorite design proudly.\nElkhart Public Library Book Bus – Browse books on board.\nBoling Vision Outreach Van – Learn about eye health resources.\nMishawaka-Penn-Harris Public Library – Stop by their table for activities and info.\nIce Cream for Breakfast Waffle Bar – A sweet morning treat topped with whipped cream\, served with coffee\, cocoa\, and good vibes! Available for purchase at our concession stand.\nNinja Golf! will also be giving away 1 Family Membership good Saturday through the 2026 Season!\nWe also have a Cat or Coffee Raffle happening. FREE to enter!\n\nIMPORTANT: This event is FREE\, but you must register a team of 2–4 participants to play mini golf. Register at wnit.org/minigolf \nCome celebrate the joy of learning\, playing\, and connecting with your community.
URL:https://www.playninjagolf.com/event/wnit-tiny-tee-off/
LOCATION:Ninja Golf\, 12080 Adams Rd\, Granger\, IN\, 46530\, United States
ATTACH;FMTTYPE=image/png:https://www.playninjagolf.com/wp-content/uploads/2024/08/Tiny-Tee-Off.png
END:VEVENT
BEGIN:VEVENT
DTSTART;VALUE=DATE:20250730
DTEND;VALUE=DATE:20250731
DTSTAMP:20260422T184328
CREATED:20230720T131952Z
LAST-MODIFIED:20250627T145710Z
UID:3358-1753833600-1753919999@www.playninjagolf.com
SUMMARY:National Cheesecake Day Extravaganza
DESCRIPTION:National Cheesecake Day is July 30th\, and we’re celebrating the sweet way at Ninja Golf! \nSwing by for a scoop (or two!) of our brand-new cheesecake-inspired ice creams from Ashby’s — featuring Oreo Cheesecake\, Lemon Cheesecake\, and the always-popular Strawberry Cheesecake. \nWhether you love bold and creamy or light and tangy\, there’s a flavor for every cheesecake fan. \nStop in and treat yourself while supplies last!
URL:https://www.playninjagolf.com/event/national-cheesecake-day-extravaganza/
LOCATION:Ninja Golf\, 12080 Adams Rd\, Granger\, IN\, 46530\, United States
ATTACH;FMTTYPE=image/png:https://www.playninjagolf.com/wp-content/uploads/2023/07/Ninja-Event-Graphics-1.png
END:VEVENT
BEGIN:VEVENT
DTSTART;TZID=America/New_York:20250722T183000
DTEND;TZID=America/New_York:20250722T203000
DTSTAMP:20260422T184328
CREATED:20250220T170932Z
LAST-MODIFIED:20250220T170932Z
UID:3965-1753209000-1753216200@www.playninjagolf.com
SUMMARY:Outdoor Art Club -
DESCRIPTION:Join us for a unique artistic experience surrounded by the natural beauty of Ninja Golf. Each week\, participants will explore a new location on the course\, drawing inspiration from the landscape while receiving general instruction. This club is open to all skill levels. \nSchedule: \n\nTuesday Evenings | 6:30 PM – 8:30 PM\nJune 10\, 17\, 24 + July 8\, 15\, 22\n\nDetails: \n\n$10 per session (pay at the door)\nParticipants must bring their own materials\nAt the end of the season\, attendees may enter their work into the Outdoor Art Exhibition at Ninja Golf\n\nFor questions\, contact olivia@playninjagolf.com.
URL:https://www.playninjagolf.com/event/outdoor-art-club-6/
LOCATION:Ninja Golf\, 12080 Adams Rd\, Granger\, IN\, 46530\, United States
ATTACH;FMTTYPE=image/jpeg:https://www.playninjagolf.com/wp-content/uploads/2025/02/Outdoor-Art-Club-Event-Cover.jpg
END:VEVENT
BEGIN:VEVENT
DTSTART;TZID=America/New_York:20250715T183000
DTEND;TZID=America/New_York:20250715T203000
DTSTAMP:20260422T184328
CREATED:20250220T170906Z
LAST-MODIFIED:20250220T170906Z
UID:3964-1752604200-1752611400@www.playninjagolf.com
SUMMARY:Outdoor Art Club
DESCRIPTION:Join us for a unique artistic experience surrounded by the natural beauty of Ninja Golf. Each week\, participants will explore a new location on the course\, drawing inspiration from the landscape while receiving general instruction. This club is open to all skill levels. \nSchedule: \n\nTuesday Evenings | 6:30 PM – 8:30 PM\nJune 10\, 17\, 24 + July 8\, 15\, 22\n\nDetails: \n\n$10 per session (pay at the door)\nParticipants must bring their own materials\nAt the end of the season\, attendees may enter their work into the Outdoor Art Exhibition at Ninja Golf\n\nFor questions\, contact olivia@playninjagolf.com.
URL:https://www.playninjagolf.com/event/outdoor-art-club-5/
LOCATION:Ninja Golf\, 12080 Adams Rd\, Granger\, IN\, 46530\, United States
ATTACH;FMTTYPE=image/jpeg:https://www.playninjagolf.com/wp-content/uploads/2025/02/Outdoor-Art-Club-Event-Cover.jpg
END:VEVENT
BEGIN:VEVENT
DTSTART;TZID=America/New_York:20250708T183000
DTEND;TZID=America/New_York:20250708T203000
DTSTAMP:20260422T184328
CREATED:20250220T170841Z
LAST-MODIFIED:20250220T170841Z
UID:3963-1751999400-1752006600@www.playninjagolf.com
SUMMARY:Outdoor Art Club
DESCRIPTION:Join us for a unique artistic experience surrounded by the natural beauty of Ninja Golf. Each week\, participants will explore a new location on the course\, drawing inspiration from the landscape while receiving general instruction. This club is open to all skill levels. \nSchedule: \n\nTuesday Evenings | 6:30 PM – 8:30 PM\nJune 10\, 17\, 24 + July 8\, 15\, 22\n\nDetails: \n\n$10 per session (pay at the door)\nParticipants must bring their own materials\nAt the end of the season\, attendees may enter their work into the Outdoor Art Exhibition at Ninja Golf\n\nFor questions\, contact olivia@playninjagolf.com.
URL:https://www.playninjagolf.com/event/outdoor-art-club-4/
LOCATION:Ninja Golf\, 12080 Adams Rd\, Granger\, IN\, 46530\, United States
ATTACH;FMTTYPE=image/jpeg:https://www.playninjagolf.com/wp-content/uploads/2025/02/Outdoor-Art-Club-Event-Cover.jpg
END:VEVENT
BEGIN:VEVENT
DTSTART;TZID=America/New_York:20250624T183000
DTEND;TZID=America/New_York:20250624T203000
DTSTAMP:20260422T184328
CREATED:20250220T170807Z
LAST-MODIFIED:20250220T170807Z
UID:3962-1750789800-1750797000@www.playninjagolf.com
SUMMARY:Outdoor Art Club
DESCRIPTION:Join us for a unique artistic experience surrounded by the natural beauty of Ninja Golf. Each week\, participants will explore a new location on the course\, drawing inspiration from the landscape while receiving general instruction. This club is open to all skill levels. \nSchedule: \n\nTuesday Evenings | 6:30 PM – 8:30 PM\nJune 10\, 17\, 24 + July 8\, 15\, 22\n\nDetails: \n\n$10 per session (pay at the door)\nParticipants must bring their own materials\nAt the end of the season\, attendees may enter their work into the Outdoor Art Exhibition at Ninja Golf\n\nFor questions\, contact olivia@playninjagolf.com.
URL:https://www.playninjagolf.com/event/outdoor-art-club-3/
LOCATION:Ninja Golf\, 12080 Adams Rd\, Granger\, IN\, 46530\, United States
ATTACH;FMTTYPE=image/jpeg:https://www.playninjagolf.com/wp-content/uploads/2025/02/Outdoor-Art-Club-Event-Cover.jpg
END:VEVENT
BEGIN:VEVENT
DTSTART;TZID=America/New_York:20250612T183000
DTEND;TZID=America/New_York:20250612T203000
DTSTAMP:20260422T184328
CREATED:20250602T153647Z
LAST-MODIFIED:20250602T153943Z
UID:4054-1749753000-1749760200@www.playninjagolf.com
SUMMARY:Japanese Mahjong Game Night!
DESCRIPTION:Thursday\, June 12th\, 2025 | 6:30–8:30pm | Kabuki Theatre | $5 per person \nJoin us for an exciting evening of Japanese Mahjong (also known as Riichi)—a fast-paced\, strategic tile game enjoyed by millions across Japan and around the world! Think of it like rummy\, but with a twist of skill\, luck\, and tradition. \nWhether you’re a curious beginner or a seasoned player\, you’re welcome at the table. Our team of 4 friendly instructors will guide you through the basics or help sharpen your strategy. \n\nSpace is limited to 16 registered players + 4 instructors (20 total).\nRecommended for ages 14+ due to the game’s complexity.\nCost: $5 (Pay in advance to reserve your spot—day-of payment accepted if space allows.)\nTo sign up or ask questions\, contact Andrew at ajmkschubert@gmail.com.\n\nLet’s shuffle\, draw\, and declare victory together!
URL:https://www.playninjagolf.com/event/japanese-mahjong-game-night/
LOCATION:Ninja Golf\, 12080 Adams Rd\, Granger\, IN\, 46530\, United States
ATTACH;FMTTYPE=image/jpeg:https://www.playninjagolf.com/wp-content/uploads/2025/06/Mahjong-Game-Night-Event-Cover-1.jpg
END:VEVENT
BEGIN:VEVENT
DTSTART;TZID=America/New_York:20250610T183000
DTEND;TZID=America/New_York:20250610T203000
DTSTAMP:20260422T184328
CREATED:20250220T170636Z
LAST-MODIFIED:20250220T170636Z
UID:3960-1749580200-1749587400@www.playninjagolf.com
SUMMARY:Outdoor Art Club
DESCRIPTION:Join us for a unique artistic experience surrounded by the natural beauty of Ninja Golf. Each week\, participants will explore a new location on the course\, drawing inspiration from the landscape while receiving general instruction. This club is open to all skill levels. \nSchedule: \n\nTuesday Evenings | 6:30 PM – 8:30 PM\nJune 10\, 17\, 24 + July 8\, 15\, 22\n\nDetails: \n\n$10 per session (pay at the door)\nParticipants must bring their own materials\nAt the end of the season\, attendees may enter their work into the Outdoor Art Exhibition at Ninja Golf\n\nFor questions\, contact olivia@playninjagolf.com.
URL:https://www.playninjagolf.com/event/outdoor-art-club/
LOCATION:Ninja Golf\, 12080 Adams Rd\, Granger\, IN\, 46530\, United States
ATTACH;FMTTYPE=image/jpeg:https://www.playninjagolf.com/wp-content/uploads/2025/02/Outdoor-Art-Club-Event-Cover.jpg
END:VEVENT
BEGIN:VEVENT
DTSTART;TZID=America/New_York:20250524T170000
DTEND;TZID=America/New_York:20250524T190000
DTSTAMP:20260422T184328
CREATED:20250430T175620Z
LAST-MODIFIED:20250521T180941Z
UID:4018-1748106000-1748113200@www.playninjagolf.com
SUMMARY:LIVE MUSIC! Mike DeHayes
DESCRIPTION:Live Music at Ninja Golf with Mike DeHayes! \nJoin us on Saturday\, May 24th for a night of great music and good food! We’re excited to welcome Mike DeHayes of Imphormal for a free\, live outdoor concert. \nBring a chair\, relax on the lawn\, and enjoy the music as the sun sets. \nFeeling hungry? Grab dinner from the Wiener Shack Food Truck! Perfect for a night of food and fun. \nConcert runs from 5 to 7 PM\, and admission is free. \nSee you at Ninja Golf for dinner and a show!
URL:https://www.playninjagolf.com/event/live-music-mike-dehayes/
LOCATION:Ninja Golf\, 12080 Adams Rd\, Granger\, IN\, 46530\, United States
ATTACH;FMTTYPE=image/jpeg:https://www.playninjagolf.com/wp-content/uploads/2025/04/250201FortheLoveofArt.jpg
END:VEVENT
BEGIN:VEVENT
DTSTART;TZID=UTC:20250517T100000
DTEND;TZID=UTC:20250517T120000
DTSTAMP:20260422T184328
CREATED:20220408T160037Z
LAST-MODIFIED:20250401T174735Z
UID:3074-1747476000-1747483200@www.playninjagolf.com
SUMMARY:Member's Only Early Hours
DESCRIPTION:MEMBERS AND BUDDY PASS HOLDERS: You are invited to our special early hours (but shhh it’s a secret)! Our Members Only Early Hours are held one Saturday every month from 10 to noon. \nJoin us for mini golf\, donuts\, and Victorian Pantry coffee! Interested in becoming a member? \nVisit playninjagolf.com/buy-membership/
URL:https://www.playninjagolf.com/event/members-only-early-hours-5/
LOCATION:Ninja Golf\, 12080 Adams Rd\, Granger\, IN\, 46530\, United States
ATTACH;FMTTYPE=image/png:https://www.playninjagolf.com/wp-content/uploads/2022/04/Members-Only.png
END:VEVENT
BEGIN:VEVENT
DTSTART;TZID=America/New_York:20250426T100000
DTEND;TZID=America/New_York:20250426T120000
DTSTAMP:20260422T184328
CREATED:20210909T145342Z
LAST-MODIFIED:20250331T140649Z
UID:2921-1745661600-1745668800@www.playninjagolf.com
SUMMARY:Members Only Early Hours
DESCRIPTION:MEMBERS AND BUDDY PASS HOLDERS: You are invited to our special early hours (but shhh it’s a secret)! Our Members Only Early Hours are held one Saturday every month from 10 to noon. Join us for mini golf\, donuts\, and Victorian Pantry coffee! Interested in becoming a member? Visit playninjagolf.com/buy-membership/
URL:https://www.playninjagolf.com/event/members-only-early-hours-4/
LOCATION:Ninja Golf\, 12080 Adams Rd\, Granger\, IN\, 46530\, United States
ATTACH;FMTTYPE=image/png:https://www.playninjagolf.com/wp-content/uploads/2022/04/Members-Only.png
END:VEVENT
END:VCALENDAR