BEGIN:VCALENDAR
VERSION:2.0
PRODID:-//Ninja Golf! - ECPv6.15.20//NONSGML v1.0//EN
CALSCALE:GREGORIAN
METHOD:PUBLISH
X-ORIGINAL-URL:https://www.playninjagolf.com
X-WR-CALDESC:Events for Ninja Golf!
REFRESH-INTERVAL;VALUE=DURATION:PT1H
X-Robots-Tag:noindex
X-PUBLISHED-TTL:PT1H
BEGIN:VTIMEZONE
TZID:America/New_York
BEGIN:DAYLIGHT
TZOFFSETFROM:-0500
TZOFFSETTO:-0400
TZNAME:EDT
DTSTART:20250309T070000
END:DAYLIGHT
BEGIN:STANDARD
TZOFFSETFROM:-0400
TZOFFSETTO:-0500
TZNAME:EST
DTSTART:20251102T060000
END:STANDARD
BEGIN:DAYLIGHT
TZOFFSETFROM:-0500
TZOFFSETTO:-0400
TZNAME:EDT
DTSTART:20260308T070000
END:DAYLIGHT
BEGIN:STANDARD
TZOFFSETFROM:-0400
TZOFFSETTO:-0500
TZNAME:EST
DTSTART:20261101T060000
END:STANDARD
BEGIN:DAYLIGHT
TZOFFSETFROM:-0500
TZOFFSETTO:-0400
TZNAME:EDT
DTSTART:20270314T070000
END:DAYLIGHT
BEGIN:STANDARD
TZOFFSETFROM:-0400
TZOFFSETTO:-0500
TZNAME:EST
DTSTART:20271107T060000
END:STANDARD
END:VTIMEZONE
BEGIN:VEVENT
DTSTART;VALUE=DATE:20260720
DTEND;VALUE=DATE:20260726
DTSTAMP:20260421T144302
CREATED:20210616T201143Z
LAST-MODIFIED:20260304T160735Z
UID:2818-1784505600-1785023999@www.playninjagolf.com
SUMMARY:Pokemon Week
DESCRIPTION:It’s back — Pokémon Week at Ninja Golf! \nGet ready\, trainers! From Monday\, July 20th to Saturday\, July 25th\, we’re celebrating one of our most popular weeks of the summer with non-stop fun\, prizes\, and Pokémon-themed adventures. \nBest part? If you wear your Pokémon gear — shirts\, hats\, cosplay\, etc. — you can play mini golf for FREE every day during Pokémon Week!
URL:https://www.playninjagolf.com/event/pokemon-week/
LOCATION:Ninja Golf\, 12080 Adams Rd\, Granger\, IN\, 46530\, United States
ATTACH;FMTTYPE=image/png:https://www.playninjagolf.com/wp-content/uploads/2021/06/Ninja-Event-Graphics.png
END:VEVENT
BEGIN:VEVENT
DTSTART;TZID=America/New_York:20260723T180000
DTEND;TZID=America/New_York:20260723T200000
DTSTAMP:20260421T144302
CREATED:20240701T015233Z
LAST-MODIFIED:20260420T180846Z
UID:3759-1784829600-1784836800@www.playninjagolf.com
SUMMARY:MiniTourneys! Sponsored by Culver's
DESCRIPTION:Think you’ve got what it takes to be a mini golf champ\, or just love a little friendly competition? Join us at Ninja Golf every Thursday night this summer for MiniTourneys. \n\nDates: June 11\, 18\, 25 • July 2\, 9\, 16\, 23\, 30 • August 6\nCheck-in: 6:00 PM\nTee-off: 6:30 PM\nWrap-up: Around 8:00 PM\nEntry Fee: $5 per player\n\nWith both Pro and Not-A-Pro divisions\, this event is open to all ages and skill levels. Whether you’re experienced or playing for the first time\, everyone is welcome. \nEnjoy weekly prizes\, great food\, and of course\, ice cream. \nGrab your friends\, bring your best game\, and make Thursday nights a highlight of your summer. No registration needed. Just show up and play.
URL:https://www.playninjagolf.com/event/minitourneys-sponsored-by-culvers-7/
LOCATION:Ninja Golf\, 12080 Adams Rd\, Granger\, IN\, 46530\, United States
ATTACH;FMTTYPE=image/jpeg:https://www.playninjagolf.com/wp-content/uploads/2026/04/mini-tourney-kawaii-blue.jpg
END:VEVENT
END:VCALENDAR