BEGIN:VCALENDAR
VERSION:2.0
PRODID:-//Ninja Golf! - ECPv6.15.20//NONSGML v1.0//EN
CALSCALE:GREGORIAN
METHOD:PUBLISH
X-WR-CALNAME:Ninja Golf!
X-ORIGINAL-URL:https://www.playninjagolf.com
X-WR-CALDESC:Events for Ninja Golf!
REFRESH-INTERVAL;VALUE=DURATION:PT1H
X-Robots-Tag:noindex
X-PUBLISHED-TTL:PT1H
BEGIN:VTIMEZONE
TZID:America/New_York
BEGIN:DAYLIGHT
TZOFFSETFROM:-0500
TZOFFSETTO:-0400
TZNAME:EDT
DTSTART:20250309T070000
END:DAYLIGHT
BEGIN:STANDARD
TZOFFSETFROM:-0400
TZOFFSETTO:-0500
TZNAME:EST
DTSTART:20251102T060000
END:STANDARD
BEGIN:DAYLIGHT
TZOFFSETFROM:-0500
TZOFFSETTO:-0400
TZNAME:EDT
DTSTART:20260308T070000
END:DAYLIGHT
BEGIN:STANDARD
TZOFFSETFROM:-0400
TZOFFSETTO:-0500
TZNAME:EST
DTSTART:20261101T060000
END:STANDARD
BEGIN:DAYLIGHT
TZOFFSETFROM:-0500
TZOFFSETTO:-0400
TZNAME:EDT
DTSTART:20270314T070000
END:DAYLIGHT
BEGIN:STANDARD
TZOFFSETFROM:-0400
TZOFFSETTO:-0500
TZNAME:EST
DTSTART:20271107T060000
END:STANDARD
END:VTIMEZONE
BEGIN:VEVENT
DTSTART;TZID=America/New_York:20260411T100000
DTEND;TZID=America/New_York:20260411T113000
DTSTAMP:20260421T090145
CREATED:20260323T160443Z
LAST-MODIFIED:20260330T124025Z
UID:4276-1775901600-1775907000@www.playninjagolf.com
SUMMARY:Coffee and Canvas Doormat Painting Class
DESCRIPTION:Join us for a cozy Coffee & Canvas class where you’ll design and paint your own custom doormat with provided templates and materials. A fun and practical project to take home and enjoy. \nNo experience is needed — I’ll guide you step-by-step through the entire process. You’ll learn simple layering and blending techniques to bring your mushrooms to life with depth and charm. \nAll supplies are included. Just bring yourself (and maybe a friend!). \nCome sip\, paint\, and leave with a finished piece you’ll be proud to display. Spots are limited — reserve yours soon! \nSign up at https://debrakart.com/product/doormat-class/.
URL:https://www.playninjagolf.com/event/coffee-and-canvas-doormat-painting-class/
LOCATION:Ninja Golf\, 12080 Adams Rd\, Granger\, IN\, 46530\, United States
ATTACH;FMTTYPE=image/jpeg:https://www.playninjagolf.com/wp-content/uploads/2025/02/Coffee-Canvas-Debra-K-Art.jpg
END:VEVENT
END:VCALENDAR