BEGIN:VCALENDAR
VERSION:2.0
PRODID:-//Ninja Golf! - ECPv6.15.20//NONSGML v1.0//EN
CALSCALE:GREGORIAN
METHOD:PUBLISH
X-ORIGINAL-URL:https://www.playninjagolf.com
X-WR-CALDESC:Events for Ninja Golf!
REFRESH-INTERVAL;VALUE=DURATION:PT1H
X-Robots-Tag:noindex
X-PUBLISHED-TTL:PT1H
BEGIN:VTIMEZONE
TZID:America/New_York
BEGIN:DAYLIGHT
TZOFFSETFROM:-0500
TZOFFSETTO:-0400
TZNAME:EDT
DTSTART:20250309T070000
END:DAYLIGHT
BEGIN:STANDARD
TZOFFSETFROM:-0400
TZOFFSETTO:-0500
TZNAME:EST
DTSTART:20251102T060000
END:STANDARD
BEGIN:DAYLIGHT
TZOFFSETFROM:-0500
TZOFFSETTO:-0400
TZNAME:EDT
DTSTART:20260308T070000
END:DAYLIGHT
BEGIN:STANDARD
TZOFFSETFROM:-0400
TZOFFSETTO:-0500
TZNAME:EST
DTSTART:20261101T060000
END:STANDARD
BEGIN:DAYLIGHT
TZOFFSETFROM:-0500
TZOFFSETTO:-0400
TZNAME:EDT
DTSTART:20270314T070000
END:DAYLIGHT
BEGIN:STANDARD
TZOFFSETFROM:-0400
TZOFFSETTO:-0500
TZNAME:EST
DTSTART:20271107T060000
END:STANDARD
END:VTIMEZONE
BEGIN:VEVENT
DTSTART;VALUE=DATE:20260308
DTEND;VALUE=DATE:20260309
DTSTAMP:20260421T103154
CREATED:20240219T202054Z
LAST-MODIFIED:20260224T201150Z
UID:3513-1772928000-1773014399@www.playninjagolf.com
SUMMARY:Mario Day
DESCRIPTION:“Wahoo!” “It’s Mario Time!” \nJoin us at Ninja Golf on Sunday\, March 8th\, as we celebrate Mario Day in style! We’ll be open Noon to 8 PM as we kick off Daylight Savings hours. \nMario Kart Tournament \nTo sign up\, email contact@playninjagolf.com with the subject line MK Tournament and include the racer’s name and age. Entry is $7 per racer\, payment collected at check-in. \n\nCheck-in: Noon – 1 PM\nTournament starts at 1 PM\nAges 11 & Under\nAges 12 & Up\nSingle-elimination\nControllers provided\n\nAnd best of all… everyone wins a prize! We’ll also have a Mario-themed coloring contest throughout the day. Plus\, wear your Mario World swag (shirts\, hats\, socks\, whatever) and play mini-golf for FREE! \nLet’s-a go!
URL:https://www.playninjagolf.com/event/mar10-mario-day/
LOCATION:Ninja Golf\, 12080 Adams Rd\, Granger\, IN\, 46530\, United States
ATTACH;FMTTYPE=image/jpeg:https://www.playninjagolf.com/wp-content/uploads/2022/01/Mar10-Day.jpg
END:VEVENT
END:VCALENDAR